Workbook

Sheet Livro banco
A1: Livro banco: o movimento de uma conta bancária
A2: Empresa | D2: Banco | G2: Conta bancária | J2: Moeda | M2: Saldo inicial
A4: Data | B4: Nº do documento | C4: Descrição | D4: Terceiro | E4: Depósito | F4: Saque | G4: Saldo | H4: Observações
G5: =IF(AND($E5="",$F5=""),"",$N$2+N($E5)-N($F5))
G6: =IF(AND($E6="",$F6=""),"",G5+N($E6)-N($F6))
G7: =IF(AND($E7="",$F7=""),"",G6+N($E7)-N($F7))
G8: =IF(AND($E8="",$F8=""),"",G7+N($E8)-N($F8))
G9: =IF(AND($E9="",$F9=""),"",G8+N($E9)-N($F9))
G10: =IF(AND($E10="",$F10=""),"",G9+N($E10)-N($F10))
G11: =IF(AND($E11="",$F11=""),"",G10+N($E11)-N($F11))
G12: =IF(AND($E12="",$F12=""),"",G11+N($E12)-N($F12))
G13: =IF(AND($E13="",$F13=""),"",G12+N($E13)-N($F13))
G14: =IF(AND($E14="",$F14=""),"",G13+N($E14)-N($F14))
G15: =IF(AND($E15="",$F15=""),"",G14+N($E15)-N($F15))
G16: =IF(AND($E16="",$F16=""),"",G15+N($E16)-N($F16))
G17: =IF(AND($E17="",$F17=""),"",G16+N($E17)-N($F17))
... G204: =IF(AND($E204="",$F204=""),"",G203+N($E204)-N($F204))
A205: TOTAIS | E205: =SUM(E5:E204) | F205: =SUM(F5:F204) | G205: =$N$2+SUM(E5:E204)-SUM(F5:F204)
A207: Resumo do período
A208: Depósito | C208: =E205
A209: Saque | C209: =F205
A210: Saldo inicial | C210: =$N$2
A211: Saldo final | C211: =$N$2+E205-F205
A212: Data de fechamento
A214: Observações

Sheet Resumo por mês
A1: Livro banco: resumo por mês da conta
A2: As datas da coluna A são os primeiros dias de cada mês do período: ajuste o ano na primeira data e copie para baixo. As colunas de valores se recalculam sozinhas a partir do registro.
A4: Data | B4: Mês | C4: Depósito | D4: Saque | E4: Saldo
A5: 46023 | B5: Jan | C5: =SUMIFS('Livro banco'!$E$5:$E$204,'Livro banco'!$A$5:$A$204,">="&$A5,'Livro banco'!$A$5:$A$204,"<="&EOMONTH($A5,0)) | D5: =SUMIFS('Livro banco'!$F$5:$F$204,'Livro banco'!$A$5:$A$204,">="&$A5,'Livro banco'!$A$5:$A$204,"<="&EOMONTH($A5,0)) | E5: =C5-D5
A6: 46054 | B6: Fev | C6: =SUMIFS('Livro banco'!$E$5:$E$204,'Livro banco'!$A$5:$A$204,">="&$A6,'Livro banco'!$A$5:$A$204,"<="&EOMONTH($A6,0)) | D6: =SUMIFS('Livro banco'!$F$5:$F$204,'Livro banco'!$A$5:$A$204,">="&$A6,'Livro banco'!$A$5:$A$204,"<="&EOMONTH($A6,0)) | E6: =C6-D6
A7: 46082 | B7: Mar | C7: =SUMIFS('Livro banco'!$E$5:$E$204,'Livro banco'!$A$5:$A$204,">="&$A7,'Livro banco'!$A$5:$A$204,"<="&EOMONTH($A7,0)) | D7: =SUMIFS('Livro banco'!$F$5:$F$204,'Livro banco'!$A$5:$A$204,">="&$A7,'Livro banco'!$A$5:$A$204,"<="&EOMONTH($A7,0)) | E7: =C7-D7
A8: 46113 | B8: Abr | C8: =SUMIFS('Livro banco'!$E$5:$E$204,'Livro banco'!$A$5:$A$204,">="&$A8,'Livro banco'!$A$5:$A$204,"<="&EOMONTH($A8,0)) | D8: =SUMIFS('Livro banco'!$F$5:$F$204,'Livro banco'!$A$5:$A$204,">="&$A8,'Livro banco'!$A$5:$A$204,"<="&EOMONTH($A8,0)) | E8: =C8-D8
A9: 46143 | B9: Mai | C9: =SUMIFS('Livro banco'!$E$5:$E$204,'Livro banco'!$A$5:$A$204,">="&$A9,'Livro banco'!$A$5:$A$204,"<="&EOMONTH($A9,0)) | D9: =SUMIFS('Livro banco'!$F$5:$F$204,'Livro banco'!$A$5:$A$204,">="&$A9,'Livro banco'!$A$5:$A$204,"<="&EOMONTH($A9,0)) | E9: =C9-D9
A10: 46174 | B10: Jun | C10: =SUMIFS('Livro banco'!$E$5:$E$204,'Livro banco'!$A$5:$A$204,">="&$A10,'Livro banco'!$A$5:$A$204,"<="&EOMONTH($A10,0)) | D10: =SUMIFS('Livro banco'!$F$5:$F$204,'Livro banco'!$A$5:$A$204,">="&$A10,'Livro banco'!$A$5:$A$204,"<="&EOMONTH($A10,0)) | E10: =C10-D10
A11: 46204 | B11: Jul | C11: =SUMIFS('Livro banco'!$E$5:$E$204,'Livro banco'!$A$5:$A$204,">="&$A11,'Livro banco'!$A$5:$A$204,"<="&EOMONTH($A11,0)) | D11: =SUMIFS('Livro banco'!$F$5:$F$204,'Livro banco'!$A$5:$A$204,">="&$A11,'Livro banco'!$A$5:$A$204,"<="&EOMONTH($A11,0)) | E11: =C11-D11
A12: 46235 | B12: Ago | C12: =SUMIFS('Livro banco'!$E$5:$E$204,'Livro banco'!$A$5:$A$204,">="&$A12,'Livro banco'!$A$5:$A$204,"<="&EOMONTH($A12,0)) | D12: =SUMIFS('Livro banco'!$F$5:$F$204,'Livro banco'!$A$5:$A$204,">="&$A12,'Livro banco'!$A$5:$A$204,"<="&EOMONTH($A12,0)) | E12: =C12-D12
A13: 46266 | B13: Set | C13: =SUMIFS('Livro banco'!$E$5:$E$204,'Livro banco'!$A$5:$A$204,">="&$A13,'Livro banco'!$A$5:$A$204,"<="&EOMONTH($A13,0)) | D13: =SUMIFS('Livro banco'!$F$5:$F$204,'Livro banco'!$A$5:$A$204,">="&$A13,'Livro banco'!$A$5:$A$204,"<="&EOMONTH($A13,0)) | E13: =C13-D13
A14: 46296 | B14: Out | C14: =SUMIFS('Livro banco'!$E$5:$E$204,'Livro banco'!$A$5:$A$204,">="&$A14,'Livro banco'!$A$5:$A$204,"<="&EOMONTH($A14,0)) | D14: =SUMIFS('Livro banco'!$F$5:$F$204,'Livro banco'!$A$5:$A$204,">="&$A14,'Livro banco'!$A$5:$A$204,"<="&EOMONTH($A14,0)) | E14: =C14-D14
A15: 46327 | B15: Nov | C15: =SUMIFS('Livro banco'!$E$5:$E$204,'Livro banco'!$A$5:$A$204,">="&$A15,'Livro banco'!$A$5:$A$204,"<="&EOMONTH($A15,0)) | D15: =SUMIFS('Livro banco'!$F$5:$F$204,'Livro banco'!$A$5:$A$204,">="&$A15,'Livro banco'!$A$5:$A$204,"<="&EOMONTH($A15,0)) | E15: =C15-D15
A16: 46357 | B16: Dez | C16: =SUMIFS('Livro banco'!$E$5:$E$204,'Livro banco'!$A$5:$A$204,">="&$A16,'Livro banco'!$A$5:$A$204,"<="&EOMONTH($A16,0)) | D16: =SUMIFS('Livro banco'!$F$5:$F$204,'Livro banco'!$A$5:$A$204,">="&$A16,'Livro banco'!$A$5:$A$204,"<="&EOMONTH($A16,0)) | E16: =C16-D16
A17: TOTAIS | C17: =SUM(C5:C16) | D17: =SUM(D5:D16) | E17: =SUM(E5:E16)

Sheet Instruções
A1: Instruções
A3: O que é o livro banco
A4: O livro banco acompanha uma única conta bancária: cada depósito e cada saque, com
A5: o saldo depois de cada movimento, na ordem em que aparecem no extrato.
A6: Se a empresa tem várias contas, abre-se um arquivo por conta e guarda-se com o nome
A7: do banco e da conta. Este livro não substitui o extrato do banco: explica o extrato
A8: e o deixa pronto para o fechamento.
A10: Passo a passo
A11: 1. Preencha o cabeçalho: empresa, banco, conta bancária, moeda e saldo inicial (o
A12: que o extrato mostra no primeiro dia do período).
A13: 2. Registre uma linha por cada movimento do extrato: data, número do documento,
A14: descrição, terceiro e valor.
... A61: Ferramenta de controle interno. Não é um documento fiscal nem contábil oficial: os valores e percentuais são editáveis e nenhum imposto é calculado.
